BEGIN:VCALENDAR
VERSION:2.0
PRODID:-//Marcus High School PTSA - ECPv6.15.1.1//NONSGML v1.0//EN
CALSCALE:GREGORIAN
METHOD:PUBLISH
X-ORIGINAL-URL:https://marcusptsa.org
X-WR-CALDESC:Events for Marcus High School PTSA
REFRESH-INTERVAL;VALUE=DURATION:PT1H
X-Robots-Tag:noindex
X-PUBLISHED-TTL:PT1H
BEGIN:VTIMEZONE
TZID:America/Chicago
BEGIN:DAYLIGHT
TZOFFSETFROM:-0600
TZOFFSETTO:-0500
TZNAME:CDT
DTSTART:20240310T080000
END:DAYLIGHT
BEGIN:STANDARD
TZOFFSETFROM:-0500
TZOFFSETTO:-0600
TZNAME:CST
DTSTART:20241103T070000
END:STANDARD
BEGIN:DAYLIGHT
TZOFFSETFROM:-0600
TZOFFSETTO:-0500
TZNAME:CDT
DTSTART:20250309T080000
END:DAYLIGHT
BEGIN:STANDARD
TZOFFSETFROM:-0500
TZOFFSETTO:-0600
TZNAME:CST
DTSTART:20251102T070000
END:STANDARD
BEGIN:DAYLIGHT
TZOFFSETFROM:-0600
TZOFFSETTO:-0500
TZNAME:CDT
DTSTART:20260308T080000
END:DAYLIGHT
BEGIN:STANDARD
TZOFFSETFROM:-0500
TZOFFSETTO:-0600
TZNAME:CST
DTSTART:20261101T070000
END:STANDARD
END:VTIMEZONE
BEGIN:VEVENT
DTSTART;VALUE=DATE:20241021
DTEND;VALUE=DATE:20241102
DTSTAMP:20260425T114958
CREATED:20241008T190500Z
LAST-MODIFIED:20241008T190520Z
UID:4052-1729468800-1730505599@marcusptsa.org
SUMMARY:Early Voting
DESCRIPTION:Be a Voting Influencer!\nEncourage your family\, friends\, neighbors\, co-workers\, booster club volunteers\, workout buddies—everyone in your circle of influence—to vote early\, beginning October 21. It’s just that simple: VOTE!\n\nWe want public officials to fully fund public education. When we call them this spring—as they make decisions that affect our children each day—candidates’ offices 100% look up whether we’ve actually voted. No vote? No say. Your vote makes sure you will be listened to in Austin.\n\nThis election season\, let’s make sure they understand that #LISDvotes.\n\nWE ARE MARCUS and WE VOTE. #PTAVotes #MarcusHSVotes
URL:https://marcusptsa.org/event/early-voting/
LOCATION:Texas
END:VEVENT
BEGIN:VEVENT
DTSTART;VALUE=DATE:20241105
DTEND;VALUE=DATE:20241106
DTSTAMP:20260425T114958
CREATED:20241008T191332Z
LAST-MODIFIED:20241008T191332Z
UID:4055-1730764800-1730851199@marcusptsa.org
SUMMARY:Election Day!
DESCRIPTION:Be a Voting Influencer!\nEncourage your family\, friends\, neighbors\, co-workers\, booster club volunteers\, workout buddies—everyone in your circle of influence—to vote on November 5. It’s just that simple: VOTE!\n\nWe want public officials to fully fund public education. When we call them this spring—as they make decisions that affect our children each day—candidates’ offices 100% look up whether we’ve actually voted. No vote? No say. Your vote makes sure you will be listened to in Austin.\n\nThis election season\, let’s make sure they understand that #LISDvotes.\n\nWE ARE MARCUS and WE VOTE. #PTAVotes #MarcusHSVotes
URL:https://marcusptsa.org/event/election-day/
LOCATION:Texas
END:VEVENT
BEGIN:VEVENT
DTSTART;VALUE=DATE:20241221
DTEND;VALUE=DATE:20250107
DTSTAMP:20260425T114958
CREATED:20241218T153453Z
LAST-MODIFIED:20241218T153557Z
UID:4081-1734739200-1736207999@marcusptsa.org
SUMMARY:Winter Break
DESCRIPTION:Friday\, December 20\, 2024 is an early release day. All LISD facilities will be closed until Monday\, January 6\, 2025 and classes will resume on Tuesday\, Jan. 7.\n⏰ http://LISD.net/Hours\n🗓️ http://LISD.net/Cal
URL:https://marcusptsa.org/event/winter-break/
LOCATION:Texas
END:VEVENT
BEGIN:VEVENT
DTSTART;VALUE=DATE:20250224
DTEND;VALUE=DATE:20250225
DTSTAMP:20260425T114958
CREATED:20241218T154433Z
LAST-MODIFIED:20241218T154433Z
UID:4087-1740355200-1740441599@marcusptsa.org
SUMMARY:Texas PTA Rally Day
DESCRIPTION:Registration for the 2025 Texas PTA Rally Day is open! Sign up today:\nhttps://docs.google.com/…/1FAIpQLSeBv…/viewform\n\n\nLISD will bus PTA members to and from Austin (no charge). Attendees will participate in student and adult PTA caucuses\, rally on the capitol steps and spend the afternoon visiting with our elected public officials to push PTA legislative priorities.
URL:https://marcusptsa.org/event/texas-pta-rally-day-2/
LOCATION:Texas
END:VEVENT
BEGIN:VEVENT
DTSTART;TZID=America/Chicago:20250225T193000
DTEND;TZID=America/Chicago:20250225T203000
DTSTAMP:20260425T114958
CREATED:20250124T144306Z
LAST-MODIFIED:20250124T144306Z
UID:4103-1740511800-1740515400@marcusptsa.org
SUMMARY:Membership Meeting
DESCRIPTION:Please join us for our next Membership Meeting on February 25\, 2025\, at 7:30 pm. We will be voting on proposed changes to our Bylaws and Standing Rules and will be forming a Nominating Committee that will nominate Marcus PTSA Board Members for the 2025-26 school year.
URL:https://marcusptsa.org/event/membership-meeting-6/
LOCATION:Texas
CATEGORIES:Membership Meeting
END:VEVENT
BEGIN:VEVENT
DTSTART;VALUE=DATE:20250723
DTEND;VALUE=DATE:20250724
DTSTAMP:20260425T114958
CREATED:20250619T040156Z
LAST-MODIFIED:20250619T040156Z
UID:4143-1753228800-1753315199@marcusptsa.org
SUMMARY:M9 Marauder Camp and Parent Meeting
DESCRIPTION:Attention incoming freshman!!! Marauder Camp and Parent Meeting will be happening on the M9 Campus on July 23\, 2025!
URL:https://marcusptsa.org/event/m9-marauder-camp-and-parent-meeting/
LOCATION:Marcus 9th Grade Campus
CATEGORIES:Educational
END:VEVENT
BEGIN:VEVENT
DTSTART;TZID=America/Chicago:20250805T170000
DTEND;TZID=America/Chicago:20250805T180000
DTSTAMP:20260425T114958
CREATED:20250803T212717Z
LAST-MODIFIED:20250803T212717Z
UID:4169-1754413200-1754416800@marcusptsa.org
SUMMARY:Walk Your Schedule
DESCRIPTION:
URL:https://marcusptsa.org/event/walk-your-schedule/
LOCATION:Marcus High School
END:VEVENT
BEGIN:VEVENT
DTSTART;TZID=America/Chicago:20250806T170000
DTEND;TZID=America/Chicago:20250806T180000
DTSTAMP:20260425T114958
CREATED:20250803T212757Z
LAST-MODIFIED:20250803T212757Z
UID:4172-1754499600-1754503200@marcusptsa.org
SUMMARY:Walk Your Schedule
DESCRIPTION:
URL:https://marcusptsa.org/event/walk-your-schedule-2/
LOCATION:Marcus High School
END:VEVENT
BEGIN:VEVENT
DTSTART;TZID=America/Chicago:20250825T190000
DTEND;TZID=America/Chicago:20250825T200000
DTSTAMP:20260425T114958
CREATED:20250803T213156Z
LAST-MODIFIED:20250803T213156Z
UID:4174-1756148400-1756152000@marcusptsa.org
SUMMARY:August Membership Meeting
DESCRIPTION:Join us in the Marcus HS Library for our Marcus PTSA Membership Meeting. We will be taking care of some business\, but we will also be there to answer any questions or address any concerns you may have for the upcoming school year.
URL:https://marcusptsa.org/event/august-membership-meeting/
LOCATION:Marcus HS Library\, 5707 Morriss Rd\, Flower Mound\, Texas\, 75028
CATEGORIES:Membership Meeting
END:VEVENT
BEGIN:VEVENT
DTSTART;TZID=America/Chicago:20250920T090000
DTEND;TZID=America/Chicago:20250920T120000
DTSTAMP:20260425T114958
CREATED:20250803T213844Z
LAST-MODIFIED:20250803T213844Z
UID:4176-1758358800-1758369600@marcusptsa.org
SUMMARY:Marcus PSTA Recycling Event
DESCRIPTION:Drop off all your donations on September 20th from 9am-12pm in the Marcus Main front parking lot. If you can’t make it that morning\, schedule a home pickup from 9/22-10/5 by visiting http://donate2impact.com
URL:https://marcusptsa.org/event/marcus-psta-recycling-event/
LOCATION:Marcus High School
CATEGORIES:Fundraising
END:VEVENT
BEGIN:VEVENT
DTSTART;VALUE=DATE:20250922
DTEND;VALUE=DATE:20251006
DTSTAMP:20260425T114958
CREATED:20250803T214202Z
LAST-MODIFIED:20250803T214554Z
UID:4178-1758499200-1759708799@marcusptsa.org
SUMMARY:Recycling Event - Home Pickup
DESCRIPTION:Couldn’t make it to Marcus for our in-person recycling event? You can schedule a home pickup from 9/22-10/5/2025 by visiting \nhttp://donate2impact.com
URL:https://marcusptsa.org/event/recycling-event-home-pickup/
LOCATION:Texas
CATEGORIES:Fundraising
END:VEVENT
BEGIN:VEVENT
DTSTART;TZID=America/Chicago:20251014T190000
DTEND;TZID=America/Chicago:20251014T203000
DTSTAMP:20260425T114958
CREATED:20250803T230722Z
LAST-MODIFIED:20250803T230722Z
UID:4188-1760468400-1760473800@marcusptsa.org
SUMMARY:Tall Cop Says Event
DESCRIPTION: 
URL:https://marcusptsa.org/event/tall-cop-says-event/
LOCATION:Marcus High School
END:VEVENT
BEGIN:VEVENT
DTSTART;TZID=America/Chicago:20260110T090000
DTEND;TZID=America/Chicago:20260110T120000
DTSTAMP:20260425T114958
CREATED:20250803T214333Z
LAST-MODIFIED:20250803T214333Z
UID:4180-1768035600-1768046400@marcusptsa.org
SUMMARY:Marcus PSTA Recycling Event
DESCRIPTION:Drop off all your donations on January 10th from 9am-12pm in the Marcus Main front parking lot. If you can’t make it that morning\, schedule a home pickup from 1/12-1/25/26 by visiting http://donate2impact.com
URL:https://marcusptsa.org/event/marcus-psta-recycling-event-2/
LOCATION:Marcus High School
CATEGORIES:Fundraising
END:VEVENT
BEGIN:VEVENT
DTSTART;VALUE=DATE:20260112
DTEND;VALUE=DATE:20260126
DTSTAMP:20260425T114958
CREATED:20250803T214539Z
LAST-MODIFIED:20250803T214539Z
UID:4182-1768176000-1769385599@marcusptsa.org
SUMMARY:Recycling Event - Home Pickup
DESCRIPTION:Couldn’t make it to Marcus for our in-person recycling event? You can schedule a home pickup from 1/12-1/25/26 by visiting \nhttp://donate2impact.com
URL:https://marcusptsa.org/event/recycling-event-home-pickup-2/
LOCATION:Texas
CATEGORIES:Fundraising
END:VEVENT
BEGIN:VEVENT
DTSTART;TZID=America/Chicago:20260223T190000
DTEND;TZID=America/Chicago:20260223T200000
DTSTAMP:20260425T114958
CREATED:20250803T233831Z
LAST-MODIFIED:20250803T233831Z
UID:4194-1771873200-1771876800@marcusptsa.org
SUMMARY:February Membership Meeting
DESCRIPTION:
URL:https://marcusptsa.org/event/february-membership-meeting/
LOCATION:Marcus HS Library\, 5707 Morriss Rd\, Flower Mound\, Texas\, 75028
CATEGORIES:Membership Meeting
END:VEVENT
BEGIN:VEVENT
DTSTART;TZID=America/Chicago:20260418T090000
DTEND;TZID=America/Chicago:20260418T120000
DTSTAMP:20260425T114958
CREATED:20250803T214710Z
LAST-MODIFIED:20250803T214710Z
UID:4184-1776502800-1776513600@marcusptsa.org
SUMMARY:Marcus PSTA Recycling Event
DESCRIPTION:Drop off all your donations on April 18th from 9am-12pm in the Marcus Main front parking lot. If you can’t make it that morning\, schedule a home pickup from 4/20-5/3/26 by visiting http://donate2impact.com
URL:https://marcusptsa.org/event/marcus-psta-recycling-event-3/
LOCATION:Marcus High School
CATEGORIES:Fundraising
END:VEVENT
BEGIN:VEVENT
DTSTART;VALUE=DATE:20260420
DTEND;VALUE=DATE:20260504
DTSTAMP:20260425T114958
CREATED:20250803T214800Z
LAST-MODIFIED:20250803T214800Z
UID:4186-1776643200-1777852799@marcusptsa.org
SUMMARY:Recycling Event - Home Pickup
DESCRIPTION:Couldn’t make it to Marcus for our in-person recycling event? You can schedule a home pickup from 4/20-5/3/26 by visiting \nhttp://donate2impact.com
URL:https://marcusptsa.org/event/recycling-event-home-pickup-3/
LOCATION:Texas
CATEGORIES:Fundraising
END:VEVENT
BEGIN:VEVENT
DTSTART;TZID=America/Chicago:20260420T190000
DTEND;TZID=America/Chicago:20260420T200000
DTSTAMP:20260425T114958
CREATED:20250803T233917Z
LAST-MODIFIED:20250803T233917Z
UID:4196-1776711600-1776715200@marcusptsa.org
SUMMARY:April Membership Meeting
DESCRIPTION:
URL:https://marcusptsa.org/event/april-membership-meeting/
LOCATION:Marcus HS Library\, 5707 Morriss Rd\, Flower Mound\, Texas\, 75028
CATEGORIES:Membership Meeting
END:VEVENT
END:VCALENDAR