BEGIN:VCALENDAR
VERSION:2.0
PRODID:-//Marcus High School PTSA - ECPv6.15.1.1//NONSGML v1.0//EN
CALSCALE:GREGORIAN
METHOD:PUBLISH
X-WR-CALNAME:Marcus High School PTSA
X-ORIGINAL-URL:https://marcusptsa.org
X-WR-CALDESC:Events for Marcus High School PTSA
REFRESH-INTERVAL;VALUE=DURATION:PT1H
X-Robots-Tag:noindex
X-PUBLISHED-TTL:PT1H
BEGIN:VTIMEZONE
TZID:America/Chicago
BEGIN:DAYLIGHT
TZOFFSETFROM:-0600
TZOFFSETTO:-0500
TZNAME:CDT
DTSTART:20220313T080000
END:DAYLIGHT
BEGIN:STANDARD
TZOFFSETFROM:-0500
TZOFFSETTO:-0600
TZNAME:CST
DTSTART:20221106T070000
END:STANDARD
BEGIN:DAYLIGHT
TZOFFSETFROM:-0600
TZOFFSETTO:-0500
TZNAME:CDT
DTSTART:20230312T080000
END:DAYLIGHT
BEGIN:STANDARD
TZOFFSETFROM:-0500
TZOFFSETTO:-0600
TZNAME:CST
DTSTART:20231105T070000
END:STANDARD
BEGIN:DAYLIGHT
TZOFFSETFROM:-0600
TZOFFSETTO:-0500
TZNAME:CDT
DTSTART:20240310T080000
END:DAYLIGHT
BEGIN:STANDARD
TZOFFSETFROM:-0500
TZOFFSETTO:-0600
TZNAME:CST
DTSTART:20241103T070000
END:STANDARD
BEGIN:DAYLIGHT
TZOFFSETFROM:-0600
TZOFFSETTO:-0500
TZNAME:CDT
DTSTART:20250309T080000
END:DAYLIGHT
BEGIN:STANDARD
TZOFFSETFROM:-0500
TZOFFSETTO:-0600
TZNAME:CST
DTSTART:20251102T070000
END:STANDARD
END:VTIMEZONE
BEGIN:VEVENT
DTSTART;TZID=America/Chicago:20250806T170000
DTEND;TZID=America/Chicago:20250806T180000
DTSTAMP:20260425T092743
CREATED:20250803T212757Z
LAST-MODIFIED:20250803T212757Z
UID:4172-1754499600-1754503200@marcusptsa.org
SUMMARY:Walk Your Schedule
DESCRIPTION:
URL:https://marcusptsa.org/event/walk-your-schedule-2/
LOCATION:Marcus High School
END:VEVENT
BEGIN:VEVENT
DTSTART;TZID=America/Chicago:20250805T170000
DTEND;TZID=America/Chicago:20250805T180000
DTSTAMP:20260425T092743
CREATED:20250803T212717Z
LAST-MODIFIED:20250803T212717Z
UID:4169-1754413200-1754416800@marcusptsa.org
SUMMARY:Walk Your Schedule
DESCRIPTION:
URL:https://marcusptsa.org/event/walk-your-schedule/
LOCATION:Marcus High School
END:VEVENT
BEGIN:VEVENT
DTSTART;VALUE=DATE:20250723
DTEND;VALUE=DATE:20250724
DTSTAMP:20260425T092743
CREATED:20250619T040156Z
LAST-MODIFIED:20250619T040156Z
UID:4143-1753228800-1753315199@marcusptsa.org
SUMMARY:M9 Marauder Camp and Parent Meeting
DESCRIPTION:Attention incoming freshman!!! Marauder Camp and Parent Meeting will be happening on the M9 Campus on July 23\, 2025!
URL:https://marcusptsa.org/event/m9-marauder-camp-and-parent-meeting/
LOCATION:Marcus 9th Grade Campus
CATEGORIES:Educational
END:VEVENT
BEGIN:VEVENT
DTSTART;TZID=America/Chicago:20250225T193000
DTEND;TZID=America/Chicago:20250225T203000
DTSTAMP:20260425T092743
CREATED:20250124T144306Z
LAST-MODIFIED:20250124T144306Z
UID:4103-1740511800-1740515400@marcusptsa.org
SUMMARY:Membership Meeting
DESCRIPTION:Please join us for our next Membership Meeting on February 25\, 2025\, at 7:30 pm. We will be voting on proposed changes to our Bylaws and Standing Rules and will be forming a Nominating Committee that will nominate Marcus PTSA Board Members for the 2025-26 school year.
URL:https://marcusptsa.org/event/membership-meeting-6/
LOCATION:Texas
CATEGORIES:Membership Meeting
END:VEVENT
BEGIN:VEVENT
DTSTART;VALUE=DATE:20250224
DTEND;VALUE=DATE:20250225
DTSTAMP:20260425T092743
CREATED:20241218T154433Z
LAST-MODIFIED:20241218T154433Z
UID:4087-1740355200-1740441599@marcusptsa.org
SUMMARY:Texas PTA Rally Day
DESCRIPTION:Registration for the 2025 Texas PTA Rally Day is open! Sign up today:\nhttps://docs.google.com/…/1FAIpQLSeBv…/viewform\n\n\nLISD will bus PTA members to and from Austin (no charge). Attendees will participate in student and adult PTA caucuses\, rally on the capitol steps and spend the afternoon visiting with our elected public officials to push PTA legislative priorities.
URL:https://marcusptsa.org/event/texas-pta-rally-day-2/
LOCATION:Texas
END:VEVENT
BEGIN:VEVENT
DTSTART;VALUE=DATE:20241221
DTEND;VALUE=DATE:20250107
DTSTAMP:20260425T092743
CREATED:20241218T153453Z
LAST-MODIFIED:20241218T153557Z
UID:4081-1734739200-1736207999@marcusptsa.org
SUMMARY:Winter Break
DESCRIPTION:Friday\, December 20\, 2024 is an early release day. All LISD facilities will be closed until Monday\, January 6\, 2025 and classes will resume on Tuesday\, Jan. 7.\n⏰ http://LISD.net/Hours\n🗓️ http://LISD.net/Cal
URL:https://marcusptsa.org/event/winter-break/
LOCATION:Texas
END:VEVENT
BEGIN:VEVENT
DTSTART;VALUE=DATE:20241105
DTEND;VALUE=DATE:20241106
DTSTAMP:20260425T092743
CREATED:20241008T191332Z
LAST-MODIFIED:20241008T191332Z
UID:4055-1730764800-1730851199@marcusptsa.org
SUMMARY:Election Day!
DESCRIPTION:Be a Voting Influencer!\nEncourage your family\, friends\, neighbors\, co-workers\, booster club volunteers\, workout buddies—everyone in your circle of influence—to vote on November 5. It’s just that simple: VOTE!\n\nWe want public officials to fully fund public education. When we call them this spring—as they make decisions that affect our children each day—candidates’ offices 100% look up whether we’ve actually voted. No vote? No say. Your vote makes sure you will be listened to in Austin.\n\nThis election season\, let’s make sure they understand that #LISDvotes.\n\nWE ARE MARCUS and WE VOTE. #PTAVotes #MarcusHSVotes
URL:https://marcusptsa.org/event/election-day/
LOCATION:Texas
END:VEVENT
BEGIN:VEVENT
DTSTART;VALUE=DATE:20241021
DTEND;VALUE=DATE:20241102
DTSTAMP:20260425T092743
CREATED:20241008T190500Z
LAST-MODIFIED:20241008T190520Z
UID:4052-1729468800-1730505599@marcusptsa.org
SUMMARY:Early Voting
DESCRIPTION:Be a Voting Influencer!\nEncourage your family\, friends\, neighbors\, co-workers\, booster club volunteers\, workout buddies—everyone in your circle of influence—to vote early\, beginning October 21. It’s just that simple: VOTE!\n\nWe want public officials to fully fund public education. When we call them this spring—as they make decisions that affect our children each day—candidates’ offices 100% look up whether we’ve actually voted. No vote? No say. Your vote makes sure you will be listened to in Austin.\n\nThis election season\, let’s make sure they understand that #LISDvotes.\n\nWE ARE MARCUS and WE VOTE. #PTAVotes #MarcusHSVotes
URL:https://marcusptsa.org/event/early-voting/
LOCATION:Texas
END:VEVENT
BEGIN:VEVENT
DTSTART;VALUE=DATE:20241018
DTEND;VALUE=DATE:20241019
DTSTAMP:20260425T092743
CREATED:20240822T135513Z
LAST-MODIFIED:20240822T135626Z
UID:3981-1729209600-1729295999@marcusptsa.org
SUMMARY:Reflections Submissions Due!
DESCRIPTION:Reflections entry form and artwork is due October 18! Submit forms and entries to the M9 or Main Campus front office. For more details\, go to http://www.txpta.org/reflections. \nFor any questions\, feel free to email Jennifer Perry at jenniferperryou@gmail.com. \n 
URL:https://marcusptsa.org/event/reflections-submissions-due/
LOCATION:Marcus High School
END:VEVENT
BEGIN:VEVENT
DTSTART;TZID=America/Chicago:20240911T170000
DTEND;TZID=America/Chicago:20240911T190000
DTSTAMP:20260425T092743
CREATED:20240823T025409Z
LAST-MODIFIED:20240823T025409Z
UID:4032-1726074000-1726081200@marcusptsa.org
SUMMARY:Homecoming Carnival
DESCRIPTION:Stop by our booth at the Homecoming Carnival on September 11\, from 5pm-7pm.
URL:https://marcusptsa.org/event/homecoming-carnival/
LOCATION:Marcus High School
END:VEVENT
BEGIN:VEVENT
DTSTART;TZID=America/Chicago:20240907T090000
DTEND;TZID=America/Chicago:20240907T120000
DTSTAMP:20260425T092743
CREATED:20240822T134133Z
LAST-MODIFIED:20240822T134133Z
UID:3971-1725699600-1725710400@marcusptsa.org
SUMMARY:Fall Recycling Event
DESCRIPTION:Do a little fall cleaning\, bring your donations up to Marcus High School\, and do some good for our school! Can’t make it on 9/7? You can also schedule a pickup from 9/09-9/22. To schedule a pickup click here.
URL:https://marcusptsa.org/event/fall-recycling-event/
LOCATION:Marcus High School
END:VEVENT
BEGIN:VEVENT
DTSTART;VALUE=DATE:20240906
DTEND;VALUE=DATE:20240907
DTSTAMP:20260425T092743
CREATED:20240822T144355Z
LAST-MODIFIED:20240822T144355Z
UID:4012-1725580800-1725667199@marcusptsa.org
SUMMARY:PTSA Student Rep Applications Due!
DESCRIPTION:The Marcus PTSA is just a little bit extra because of our STUDENTS! The 2024-25 Marcus PTSA Student Representative application is now open for the school year. Applicants are required to be in good academic standing\, current (2024-25) PTSA members and should be prepared to attend one board meeting per month—typically the third Monday of each month at 7 p.m. Student reps attend PTSA events as they are able and commit to contribute to a student-led service project during the school year. The deadline to apply is Friday\, Sept. 6\, 2024.\nhttps://forms.office.com/r/7h0a9Qgt4j
URL:https://marcusptsa.org/event/ptsa-student-rep-applications-due/
LOCATION:Texas
END:VEVENT
BEGIN:VEVENT
DTSTART;TZID=America/Chicago:20240826T183000
DTEND;TZID=America/Chicago:20240826T190000
DTSTAMP:20260425T092743
CREATED:20240822T134759Z
LAST-MODIFIED:20240822T134759Z
UID:3978-1724697000-1724698800@marcusptsa.org
SUMMARY:Marcus PTSA Regular Meeting
DESCRIPTION:Join us before open house for our first  Marcus PTSA Regular Meeting of the school year! The meeting will be short and sweet\, and snacks will be provided.
URL:https://marcusptsa.org/event/marcus-ptsa-regular-meeting/
LOCATION:Marcus HS Library\, 5707 Morriss Rd\, Flower Mound\, Texas\, 75028
END:VEVENT
BEGIN:VEVENT
DTSTART;TZID=America/Chicago:20231023T183000
DTEND;TZID=America/Chicago:20231023T200000
DTSTAMP:20260425T092743
CREATED:20231010T164458Z
LAST-MODIFIED:20231010T164458Z
UID:3853-1698085800-1698091200@marcusptsa.org
SUMMARY:Fentanyl Awareness Panel
DESCRIPTION:Hosted by the MHS Counseling Department. See flyer for more information.
URL:https://marcusptsa.org/event/fentanyl-awareness-panel/
LOCATION:Marcus High School
CATEGORIES:Educational
END:VEVENT
BEGIN:VEVENT
DTSTART;VALUE=DATE:20231023
DTEND;VALUE=DATE:20231028
DTSTAMP:20260425T092743
CREATED:20231010T163842Z
LAST-MODIFIED:20231010T163842Z
UID:3851-1698019200-1698451199@marcusptsa.org
SUMMARY:Red Ribbon Week
DESCRIPTION:
URL:https://marcusptsa.org/event/red-ribbon-week/
LOCATION:Marcus High School
END:VEVENT
BEGIN:VEVENT
DTSTART;TZID=America/Chicago:20230909T090000
DTEND;TZID=America/Chicago:20230909T120000
DTSTAMP:20260425T092743
CREATED:20230902T161208Z
LAST-MODIFIED:20230902T161333Z
UID:3827-1694250000-1694260800@marcusptsa.org
SUMMARY:Recycling Event
DESCRIPTION:Do a little fall cleaning\, bring your donations up to Marcus High School and do some good for our school! \n Learn More
URL:https://marcusptsa.org/event/recycling-event-3/
LOCATION:Texas
CATEGORIES:Fundraising
END:VEVENT
BEGIN:VEVENT
DTSTART;TZID=America/Chicago:20230430T140000
DTEND;TZID=America/Chicago:20230430T160000
DTSTAMP:20260425T092743
CREATED:20230403T151055Z
LAST-MODIFIED:20230403T151116Z
UID:3708-1682863200-1682870400@marcusptsa.org
SUMMARY:Winning the Fight Parent Event
DESCRIPTION:
URL:https://marcusptsa.org/event/winning-the-fight-parent-event/
LOCATION:Texas
END:VEVENT
BEGIN:VEVENT
DTSTART;TZID=America/Chicago:20230424T190000
DTEND;TZID=America/Chicago:20230424T203000
DTSTAMP:20260425T092743
CREATED:20230417T192042Z
LAST-MODIFIED:20230417T192154Z
UID:3727-1682362800-1682368200@marcusptsa.org
SUMMARY:Magnificent Marauder Awards Ceremony
DESCRIPTION:Is your student a Magnificent Marauder? \nParent email notifications are being sent for Magnificent Marauder award recipients. If you get one and have questions\, email mm@marcusptsa.org. \nWe can’t wait to see all our awardees and their families! \nNote: Student Check-in is at 6:30 PM.
URL:https://marcusptsa.org/event/magnificent-marauder-awards-ceremony/
LOCATION:Marcus High School – Auditorium\, 5707 Morriss Road\, Flower Mound\, 75028\, United States
END:VEVENT
BEGIN:VEVENT
DTSTART;TZID=America/Chicago:20230421T180000
DTEND;TZID=America/Chicago:20230421T200000
DTSTAMP:20260425T092743
CREATED:20230420T043036Z
LAST-MODIFIED:20230420T043036Z
UID:3740-1682100000-1682107200@marcusptsa.org
SUMMARY:LISD Candidate Forum @ Marcus
DESCRIPTION:Meet and learn about the 2023 LISD School Board candidates. \nThis forum is being hosted by the Marcus High School Voting Club.
URL:https://marcusptsa.org/event/lisd-candidate-forum-marcus/
LOCATION:Marcus High School – Auditorium\, 5707 Morriss Road\, Flower Mound\, 75028\, United States
END:VEVENT
BEGIN:VEVENT
DTSTART;TZID=America/Chicago:20230419T180000
DTEND;TZID=America/Chicago:20230419T200000
DTSTAMP:20260425T092743
CREATED:20230322T021607Z
LAST-MODIFIED:20230322T021607Z
UID:3689-1681927200-1681934400@marcusptsa.org
SUMMARY:LISD Candidate Forum
DESCRIPTION:You’ve seen the signs popping up around town! The LISD School Board election is coming up May 6th. Please join the LISD Council of PTAs as we host our Candidate Forum on April 19 at the LISD Admin Center—all of the candidates have confirmed their participation. Come meet them in-person\, hear their views and get informed!
URL:https://marcusptsa.org/event/lisd-candidate-forum/
LOCATION:LISD Admin Center\, 1565 W. Main Street\, Lewisville\, TX\, 75028\, United States
CATEGORIES:Advocacy
END:VEVENT
BEGIN:VEVENT
DTSTART;TZID=America/Chicago:20230413T183000
DTEND;TZID=America/Chicago:20230413T193000
DTSTAMP:20260425T092743
CREATED:20220908T230457Z
LAST-MODIFIED:20230407T144449Z
UID:3531-1681410600-1681414200@marcusptsa.org
SUMMARY:Election Meeting
DESCRIPTION:Have your voice heard for the 2023-24 Marcus High School PTSA Board!
URL:https://marcusptsa.org/event/election-meeting/
LOCATION:Texas
CATEGORIES:Membership Meeting
ATTACH;FMTTYPE=image/png:https://marcusptsa.org/wp-content/uploads/2022/09/noun-elections-1236078-D3D3D3.png
END:VEVENT
BEGIN:VEVENT
DTSTART;TZID=America/Chicago:20230227T060000
DTEND;TZID=America/Chicago:20230227T180000
DTSTAMP:20260425T092743
CREATED:20220919T173412Z
LAST-MODIFIED:20220919T173412Z
UID:3548-1677477600-1677520800@marcusptsa.org
SUMMARY:Texas PTA Rally Day
DESCRIPTION:Check back for updates on this exciting day!
URL:https://marcusptsa.org/event/texas-pta-rally-day/
LOCATION:Texas
CATEGORIES:Advocacy
END:VEVENT
BEGIN:VEVENT
DTSTART;TZID=America/Chicago:20230213T183000
DTEND;TZID=America/Chicago:20230213T200000
DTSTAMP:20260425T092743
CREATED:20220908T230118Z
LAST-MODIFIED:20230111T012642Z
UID:3527-1676313000-1676318400@marcusptsa.org
SUMMARY:Spring Regular Meeting / Open House
DESCRIPTION:Join the Marcus PTSA for our Spring Regular Meeting starting at 6:30 pm. \nOpen House will follow at 7:00 pm.
URL:https://marcusptsa.org/event/open-house-2/
LOCATION:Texas
CATEGORIES:Membership Meeting
ATTACH;FMTTYPE=image/jpeg:https://marcusptsa.org/wp-content/uploads/2022/09/Red-Stadium-Seats.jpg
END:VEVENT
BEGIN:VEVENT
DTSTART;TZID=America/Chicago:20220929T180000
DTEND;TZID=America/Chicago:20220929T200000
DTSTAMP:20260425T092743
CREATED:20220919T174815Z
LAST-MODIFIED:20220919T174815Z
UID:3550-1664474400-1664481600@marcusptsa.org
SUMMARY:Candidate Forum
DESCRIPTION:The North Texas Commission – Dallas Fort Worth\, along with the Flower Mound\, Lewisville and Metrocrest Chambers of Commerce are hosting a candidate forum at Lewisville High School on Sept. 29 in the Leo Stuver Auditorium beginning at 6 p.m. Hear from candidates in races from State House Districts 57\, 63\, and 65\, each of which represents parts of Lewisville ISD.
URL:https://marcusptsa.org/event/candidate-forum/
LOCATION:Lewisville High School\, 1098 W. Main Street\, Lewisville\, TX\, 75067
CATEGORIES:Advocacy
END:VEVENT
BEGIN:VEVENT
DTSTART;TZID=America/Chicago:20220919T183000
DTEND;TZID=America/Chicago:20220919T193000
DTSTAMP:20260425T092743
CREATED:20220908T225935Z
LAST-MODIFIED:20220919T175254Z
UID:3524-1663612200-1663615800@marcusptsa.org
SUMMARY:Fall Open House
DESCRIPTION:Thank you to everyone who has already joined PTSA this year\, helping us focus on our mission to make every child’s potential a reality by engaging and empowering families and communities to advocate for all children. \nWe look forward to seeing everyone this evening at our first regular meeting of the 2022 – 2023 school year. We hope you enjoy open house after the meeting. \nOur meeting will be at 6:30 p.m. in the library on the main campus. \nFor those of you who still need to become members of PTSA\, we invite you to join at joinpta.org today and become part of the team focused on making every child’s potential a reality. \nThank You\nMichelle Hernandez\nMarcus High School PTSA President
URL:https://marcusptsa.org/event/open-house/
LOCATION:Marcus High School – Library
CATEGORIES:Membership Meeting
ATTACH;FMTTYPE=image/jpeg:https://marcusptsa.org/wp-content/uploads/2022/09/Red-Stadium-Seats.jpg
END:VEVENT
BEGIN:VEVENT
DTSTART;TZID=America/Chicago:20220910T090000
DTEND;TZID=America/Chicago:20220910T120000
DTSTAMP:20260425T092743
CREATED:20220829T182949Z
LAST-MODIFIED:20220829T183200Z
UID:3512-1662800400-1662811200@marcusptsa.org
SUMMARY:Recycling Event
DESCRIPTION:Do a little fall cleaning\, bring your donations up to Marcus High School and do some good for our school! \n Learn More
URL:https://marcusptsa.org/event/recycling-event/
LOCATION:Texas
CATEGORIES:Fundraising
END:VEVENT
BEGIN:VEVENT
DTSTART;TZID=America/Chicago:20220511T110000
DTEND;TZID=America/Chicago:20220511T220000
DTSTAMP:20260425T092743
CREATED:20220501T184232Z
LAST-MODIFIED:20220504T210405Z
UID:3414-1652266800-1652306400@marcusptsa.org
SUMMARY:Buffalo Wild Wings Fundraiser
DESCRIPTION:When: Wednesday\, May 11\, 11:00am to 10:00pm \nWhere: 3780 Justin Rd (407)\, Highland Village
URL:https://marcusptsa.org/event/buffalo-wild-wings-fundraiser/
LOCATION:Texas
CATEGORIES:Fundraising
END:VEVENT
BEGIN:VEVENT
DTSTART;TZID=America/Chicago:20220507T090000
DTEND;TZID=America/Chicago:20220507T120000
DTSTAMP:20260425T092743
CREATED:20220501T184046Z
LAST-MODIFIED:20220501T184046Z
UID:3412-1651914000-1651924800@marcusptsa.org
SUMMARY:Marcus HS PTSA Recycling Event
DESCRIPTION:Help us support Keep Flower Mound Beautiful by donating your unwanted clothing\, shoes\, & household items. Funds for our group will be earned for pounds donated in our name. Your donations help our local community grow! \nSaturday May 7\, 2022\nBring your donations to the Marcus High School front main entrance at \n5707 Morris Road Flower\nMound\, TX 75028\n9am -12pm \nMore Information
URL:https://marcusptsa.org/event/marcus-hs-ptsa-recycling-event/
LOCATION:Texas
CATEGORIES:Fundraising
END:VEVENT
BEGIN:VEVENT
DTSTART;TZID=America/Chicago:20220419T171500
DTEND;TZID=America/Chicago:20220419T180000
DTSTAMP:20260425T092743
CREATED:20220330T181727Z
LAST-MODIFIED:20220408T181025Z
UID:3355-1650388500-1650391200@marcusptsa.org
SUMMARY:Membership Meeting
DESCRIPTION:Join us for our April Membership Meeting! \nThis is an important meetings as we are electing the officers for the 2022-23 school year. \nLocation: Marcus HS Library
URL:https://marcusptsa.org/event/membership-meeting-5/
LOCATION:Marcus High School – Library
CATEGORIES:Membership Meeting
ATTACH;FMTTYPE=image/png:https://marcusptsa.org/wp-content/uploads/2015/05/PTSA-Logo.png
END:VEVENT
BEGIN:VEVENT
DTSTART;TZID=America/Chicago:20220412T170000
DTEND;TZID=America/Chicago:20220412T210000
DTSTAMP:20260425T092743
CREATED:20220404T183511Z
LAST-MODIFIED:20220404T183602Z
UID:3368-1649782800-1649797200@marcusptsa.org
SUMMARY:Chipotle BiteNite
DESCRIPTION:Get some great\, fresh food and help our Marcus PTSA! \nMention Marcus High School PTSA when checking out in the restaurant. \nOrdering online? Use code WYDKLB3
URL:https://marcusptsa.org/event/chipotle-bitenite/
LOCATION:Chipotle\, 6100 LONG PRAIRIE RD STE 100\, Flower Mound\, TX\, 75028
CATEGORIES:Fundraising
ATTACH;FMTTYPE=image/png:https://marcusptsa.org/wp-content/uploads/2016/01/366.png
END:VEVENT
END:VCALENDAR