BEGIN:VCALENDAR
VERSION:2.0
PRODID:-//Marcus High School PTSA - ECPv6.15.1.1//NONSGML v1.0//EN
CALSCALE:GREGORIAN
METHOD:PUBLISH
X-ORIGINAL-URL:https://marcusptsa.org
X-WR-CALDESC:Events for Marcus High School PTSA
REFRESH-INTERVAL;VALUE=DURATION:PT1H
X-Robots-Tag:noindex
X-PUBLISHED-TTL:PT1H
BEGIN:VTIMEZONE
TZID:America/Chicago
BEGIN:DAYLIGHT
TZOFFSETFROM:-0600
TZOFFSETTO:-0500
TZNAME:CDT
DTSTART:20210314T080000
END:DAYLIGHT
BEGIN:STANDARD
TZOFFSETFROM:-0500
TZOFFSETTO:-0600
TZNAME:CST
DTSTART:20211107T070000
END:STANDARD
BEGIN:DAYLIGHT
TZOFFSETFROM:-0600
TZOFFSETTO:-0500
TZNAME:CDT
DTSTART:20220313T080000
END:DAYLIGHT
BEGIN:STANDARD
TZOFFSETFROM:-0500
TZOFFSETTO:-0600
TZNAME:CST
DTSTART:20221106T070000
END:STANDARD
END:VTIMEZONE
BEGIN:VEVENT
DTSTART;TZID=America/Chicago:20220324T170000
DTEND;TZID=America/Chicago:20220324T210000
DTSTAMP:20260424T125548
CREATED:20220309T001404Z
LAST-MODIFIED:20220309T001404Z
UID:3349-1648141200-1648155600@marcusptsa.org
SUMMARY:Handel's Fundraiser
DESCRIPTION:Mention Marcus High School PTSA when you place your delicious order at Handel’s Homemade Ice Cream and they will donate 30% back to the PTSA! \nWhere: 2200 Justin Road\, Highland Village
URL:https://marcusptsa.org/event/handels-fundraiser/
LOCATION:TX
CATEGORIES:Fundraising
END:VEVENT
BEGIN:VEVENT
DTSTART;TZID=America/Chicago:20220217T160000
DTEND;TZID=America/Chicago:20220217T210000
DTSTAMP:20260424T125548
CREATED:20220202T205941Z
LAST-MODIFIED:20220202T205941Z
UID:3300-1645113600-1645131600@marcusptsa.org
SUMMARY:Bite Nite - Jason's Deli
DESCRIPTION:Jason’s Deli – Flower Mound
URL:https://marcusptsa.org/event/bite-nite-jasons-deli/
LOCATION:TX
CATEGORIES:Fundraising
END:VEVENT
BEGIN:VEVENT
DTSTART;TZID=America/Chicago:20211110T160000
DTEND;TZID=America/Chicago:20211110T190000
DTSTAMP:20260424T125548
CREATED:20211023T215246Z
LAST-MODIFIED:20211023T221007Z
UID:3203-1636560000-1636570800@marcusptsa.org
SUMMARY:Kendra Scott Gives Back
DESCRIPTION:KENDRA GIVES BACK EVENT / Marcus High School PTSA \nMark your Calendars!! We are having a Giveback event benefiting Marcus High School PTA! Come shop in store and mention MHS at checkout and 20% of your purchase will go back! From November 10th to November Ilth\, you can shop online from the comfort of your own home and enter GIVEBACK-AMQZX at checkout. By doing that\, 20% of your purchase will go back to benefit Marcus High School \nStart your holiday shopping with Kendra Scott in the Shops at Highland Village and shop for a cause! \nMore details will be coming soon!
URL:https://marcusptsa.org/event/kendra-scott-gives-back/
LOCATION:Kendra Scott\, 1500 Cottonwood Creek #180\, Highland Village\, 75077\, United States
CATEGORIES:Fundraising
END:VEVENT
END:VCALENDAR