BEGIN:VCALENDAR
VERSION:2.0
PRODID:-//Marcus High School PTSA - ECPv6.15.1.1//NONSGML v1.0//EN
CALSCALE:GREGORIAN
METHOD:PUBLISH
X-ORIGINAL-URL:https://marcusptsa.org
X-WR-CALDESC:Events for Marcus High School PTSA
REFRESH-INTERVAL;VALUE=DURATION:PT1H
X-Robots-Tag:noindex
X-PUBLISHED-TTL:PT1H
BEGIN:VTIMEZONE
TZID:America/Chicago
BEGIN:DAYLIGHT
TZOFFSETFROM:-0600
TZOFFSETTO:-0500
TZNAME:CDT
DTSTART:20250309T080000
END:DAYLIGHT
BEGIN:STANDARD
TZOFFSETFROM:-0500
TZOFFSETTO:-0600
TZNAME:CST
DTSTART:20251102T070000
END:STANDARD
END:VTIMEZONE
BEGIN:VEVENT
DTSTART;VALUE=DATE:20250922
DTEND;VALUE=DATE:20251006
DTSTAMP:20260424T200406
CREATED:20250803T214202Z
LAST-MODIFIED:20250803T214554Z
UID:4178-1758499200-1759708799@marcusptsa.org
SUMMARY:Recycling Event - Home Pickup
DESCRIPTION:Couldn’t make it to Marcus for our in-person recycling event? You can schedule a home pickup from 9/22-10/5/2025 by visiting \nhttp://donate2impact.com
URL:https://marcusptsa.org/event/recycling-event-home-pickup/
CATEGORIES:Fundraising
END:VEVENT
END:VCALENDAR