BEGIN:VCALENDAR
VERSION:2.0
PRODID:-//Marcus High School PTSA - ECPv6.15.1.1//NONSGML v1.0//EN
CALSCALE:GREGORIAN
METHOD:PUBLISH
X-WR-CALNAME:Marcus High School PTSA
X-ORIGINAL-URL:https://marcusptsa.org
X-WR-CALDESC:Events for Marcus High School PTSA
REFRESH-INTERVAL;VALUE=DURATION:PT1H
X-Robots-Tag:noindex
X-PUBLISHED-TTL:PT1H
BEGIN:VTIMEZONE
TZID:America/Chicago
BEGIN:DAYLIGHT
TZOFFSETFROM:-0600
TZOFFSETTO:-0500
TZNAME:CDT
DTSTART:20220313T080000
END:DAYLIGHT
BEGIN:STANDARD
TZOFFSETFROM:-0500
TZOFFSETTO:-0600
TZNAME:CST
DTSTART:20221106T070000
END:STANDARD
BEGIN:DAYLIGHT
TZOFFSETFROM:-0600
TZOFFSETTO:-0500
TZNAME:CDT
DTSTART:20230312T080000
END:DAYLIGHT
BEGIN:STANDARD
TZOFFSETFROM:-0500
TZOFFSETTO:-0600
TZNAME:CST
DTSTART:20231105T070000
END:STANDARD
END:VTIMEZONE
BEGIN:VEVENT
DTSTART;TZID=America/Chicago:20230419T180000
DTEND;TZID=America/Chicago:20230419T200000
DTSTAMP:20260424T163352
CREATED:20230322T021607Z
LAST-MODIFIED:20230322T021607Z
UID:3689-1681927200-1681934400@marcusptsa.org
SUMMARY:LISD Candidate Forum
DESCRIPTION:You’ve seen the signs popping up around town! The LISD School Board election is coming up May 6th. Please join the LISD Council of PTAs as we host our Candidate Forum on April 19 at the LISD Admin Center—all of the candidates have confirmed their participation. Come meet them in-person\, hear their views and get informed!
URL:https://marcusptsa.org/event/lisd-candidate-forum/
LOCATION:LISD Admin Center\, 1565 W. Main Street\, Lewisville\, TX\, 75028\, United States
CATEGORIES:Advocacy
END:VEVENT
BEGIN:VEVENT
DTSTART;TZID=America/Chicago:20230227T060000
DTEND;TZID=America/Chicago:20230227T180000
DTSTAMP:20260424T163352
CREATED:20220919T173412Z
LAST-MODIFIED:20220919T173412Z
UID:3548-1677477600-1677520800@marcusptsa.org
SUMMARY:Texas PTA Rally Day
DESCRIPTION:Check back for updates on this exciting day!
URL:https://marcusptsa.org/event/texas-pta-rally-day/
LOCATION:TX
CATEGORIES:Advocacy
END:VEVENT
BEGIN:VEVENT
DTSTART;TZID=America/Chicago:20220929T180000
DTEND;TZID=America/Chicago:20220929T200000
DTSTAMP:20260424T163352
CREATED:20220919T174815Z
LAST-MODIFIED:20220919T174815Z
UID:3550-1664474400-1664481600@marcusptsa.org
SUMMARY:Candidate Forum
DESCRIPTION:The North Texas Commission – Dallas Fort Worth\, along with the Flower Mound\, Lewisville and Metrocrest Chambers of Commerce are hosting a candidate forum at Lewisville High School on Sept. 29 in the Leo Stuver Auditorium beginning at 6 p.m. Hear from candidates in races from State House Districts 57\, 63\, and 65\, each of which represents parts of Lewisville ISD.
URL:https://marcusptsa.org/event/candidate-forum/
LOCATION:Lewisville High School\, 1098 W. Main Street\, Lewisville\, TX\, 75067
CATEGORIES:Advocacy
END:VEVENT
END:VCALENDAR