BEGIN:VCALENDAR
VERSION:2.0
PRODID:-//Marcus High School PTSA - ECPv6.15.1.1//NONSGML v1.0//EN
CALSCALE:GREGORIAN
METHOD:PUBLISH
X-WR-CALNAME:Marcus High School PTSA
X-ORIGINAL-URL:https://marcusptsa.org
X-WR-CALDESC:Events for Marcus High School PTSA
REFRESH-INTERVAL;VALUE=DURATION:PT1H
X-Robots-Tag:noindex
X-PUBLISHED-TTL:PT1H
BEGIN:VTIMEZONE
TZID:America/Chicago
BEGIN:DAYLIGHT
TZOFFSETFROM:-0600
TZOFFSETTO:-0500
TZNAME:CDT
DTSTART:20260308T080000
END:DAYLIGHT
BEGIN:STANDARD
TZOFFSETFROM:-0500
TZOFFSETTO:-0600
TZNAME:CST
DTSTART:20261101T070000
END:STANDARD
END:VTIMEZONE
BEGIN:VEVENT
DTSTART;TZID=America/Chicago:20260418T090000
DTEND;TZID=America/Chicago:20260418T120000
DTSTAMP:20260424T111614
CREATED:20250803T214710Z
LAST-MODIFIED:20250803T214710Z
UID:4184-1776502800-1776513600@marcusptsa.org
SUMMARY:Marcus PSTA Recycling Event
DESCRIPTION:Drop off all your donations on April 18th from 9am-12pm in the Marcus Main front parking lot. If you can’t make it that morning\, schedule a home pickup from 4/20-5/3/26 by visiting http://donate2impact.com
URL:https://marcusptsa.org/event/marcus-psta-recycling-event-3/
LOCATION:Marcus High School
CATEGORIES:Fundraising
END:VEVENT
END:VCALENDAR