BEGIN:VCALENDAR
VERSION:2.0
PRODID:-//Marcus High School PTSA - ECPv6.15.1.1//NONSGML v1.0//EN
CALSCALE:GREGORIAN
METHOD:PUBLISH
X-WR-CALNAME:Marcus High School PTSA
X-ORIGINAL-URL:https://marcusptsa.org
X-WR-CALDESC:Events for Marcus High School PTSA
REFRESH-INTERVAL;VALUE=DURATION:PT1H
X-Robots-Tag:noindex
X-PUBLISHED-TTL:PT1H
BEGIN:VTIMEZONE
TZID:America/Chicago
BEGIN:DAYLIGHT
TZOFFSETFROM:-0600
TZOFFSETTO:-0500
TZNAME:CDT
DTSTART:20260308T080000
END:DAYLIGHT
BEGIN:STANDARD
TZOFFSETFROM:-0500
TZOFFSETTO:-0600
TZNAME:CST
DTSTART:20261101T070000
END:STANDARD
END:VTIMEZONE
BEGIN:VEVENT
DTSTART;VALUE=DATE:20260112
DTEND;VALUE=DATE:20260126
DTSTAMP:20260424T144553
CREATED:20250803T214539Z
LAST-MODIFIED:20250803T214539Z
UID:4182-1768176000-1769385599@marcusptsa.org
SUMMARY:Recycling Event - Home Pickup
DESCRIPTION:Couldn’t make it to Marcus for our in-person recycling event? You can schedule a home pickup from 1/12-1/25/26 by visiting \nhttp://donate2impact.com
URL:https://marcusptsa.org/event/recycling-event-home-pickup-2/
LOCATION:Texas
CATEGORIES:Fundraising
END:VEVENT
END:VCALENDAR