BEGIN:VCALENDAR
VERSION:2.0
PRODID:-//Marcus High School PTSA - ECPv6.15.1.1//NONSGML v1.0//EN
CALSCALE:GREGORIAN
METHOD:PUBLISH
X-WR-CALNAME:Marcus High School PTSA
X-ORIGINAL-URL:https://marcusptsa.org
X-WR-CALDESC:Events for Marcus High School PTSA
REFRESH-INTERVAL;VALUE=DURATION:PT1H
X-Robots-Tag:noindex
X-PUBLISHED-TTL:PT1H
BEGIN:VTIMEZONE
TZID:America/Chicago
BEGIN:DAYLIGHT
TZOFFSETFROM:-0600
TZOFFSETTO:-0500
TZNAME:CDT
DTSTART:20240310T080000
END:DAYLIGHT
BEGIN:STANDARD
TZOFFSETFROM:-0500
TZOFFSETTO:-0600
TZNAME:CST
DTSTART:20241103T070000
END:STANDARD
END:VTIMEZONE
BEGIN:VEVENT
DTSTART;VALUE=DATE:20241021
DTEND;VALUE=DATE:20241102
DTSTAMP:20260425T074544
CREATED:20241008T190500Z
LAST-MODIFIED:20241008T190520Z
UID:4052-1729468800-1730505599@marcusptsa.org
SUMMARY:Early Voting
DESCRIPTION:Be a Voting Influencer!\nEncourage your family\, friends\, neighbors\, co-workers\, booster club volunteers\, workout buddies—everyone in your circle of influence—to vote early\, beginning October 21. It’s just that simple: VOTE!\n\nWe want public officials to fully fund public education. When we call them this spring—as they make decisions that affect our children each day—candidates’ offices 100% look up whether we’ve actually voted. No vote? No say. Your vote makes sure you will be listened to in Austin.\n\nThis election season\, let’s make sure they understand that #LISDvotes.\n\nWE ARE MARCUS and WE VOTE. #PTAVotes #MarcusHSVotes
URL:https://marcusptsa.org/event/early-voting/
LOCATION:Texas
END:VEVENT
END:VCALENDAR