BEGIN:VCALENDAR
VERSION:2.0
PRODID:-//Marcus High School PTSA - ECPv6.15.1.1//NONSGML v1.0//EN
CALSCALE:GREGORIAN
METHOD:PUBLISH
X-ORIGINAL-URL:https://marcusptsa.org
X-WR-CALDESC:Events for Marcus High School PTSA
REFRESH-INTERVAL;VALUE=DURATION:PT1H
X-Robots-Tag:noindex
X-PUBLISHED-TTL:PT1H
BEGIN:VTIMEZONE
TZID:America/Chicago
BEGIN:DAYLIGHT
TZOFFSETFROM:-0600
TZOFFSETTO:-0500
TZNAME:CDT
DTSTART:20240310T080000
END:DAYLIGHT
BEGIN:STANDARD
TZOFFSETFROM:-0500
TZOFFSETTO:-0600
TZNAME:CST
DTSTART:20241103T070000
END:STANDARD
END:VTIMEZONE
BEGIN:VEVENT
DTSTART;VALUE=DATE:20240906
DTEND;VALUE=DATE:20240907
DTSTAMP:20260425T101814
CREATED:20240822T144355Z
LAST-MODIFIED:20240822T144355Z
UID:4012-1725580800-1725667199@marcusptsa.org
SUMMARY:PTSA Student Rep Applications Due!
DESCRIPTION:The Marcus PTSA is just a little bit extra because of our STUDENTS! The 2024-25 Marcus PTSA Student Representative application is now open for the school year. Applicants are required to be in good academic standing\, current (2024-25) PTSA members and should be prepared to attend one board meeting per month—typically the third Monday of each month at 7 p.m. Student reps attend PTSA events as they are able and commit to contribute to a student-led service project during the school year. The deadline to apply is Friday\, Sept. 6\, 2024.\nhttps://forms.office.com/r/7h0a9Qgt4j
URL:https://marcusptsa.org/event/ptsa-student-rep-applications-due/
LOCATION:Texas
END:VEVENT
END:VCALENDAR